OziExplorer Map Data File Version 2.2
Mapa.jpg
C:\Users\Augis\Documents\Ballooning\Varžybos\2008\Wloclawek\mapa.jpg
1 ,Map Code,
WGS 84,WGS 84, 0.0000, 0.0000,WGS 84
Reserved 1
Reserved 2
Magnetic Variation,,,E
Map Projection,(UTM) Universal Transverse Mercator,PolyCal,No,AutoCalOnly,No,BSBUseWPX,No
Point01,xy, 9759, 632,in, deg, , ,N, , ,E, grid, 34, 386000, 5844000,N
Point02,xy, 5041, 893,in, deg, , ,N, , ,E, grid, 34, 366000, 5844000,N
Point03,xy, 297, 684,in, deg, , ,N, , ,E, grid, 34, 346000, 5846000,N
Point04,xy, 481, 3986,in, deg, , ,N, , ,E, grid, 34, 346000, 5832000,N
Point05,xy, 5225, 4196,in, deg, , ,N, , ,E, grid, 34, 366000, 5830000,N
Point06,xy, 9496, 4432,in, deg, , ,N, , ,E, grid, 34, 384000, 5828000,N
Point07,xy, 9680, 7734,in, deg, , ,N, , ,E, grid, 34, 384000, 5814000,N
Point08,xy, 4936, 7524,in, deg, , ,N, , ,E, grid, 34, 364000, 5816000,N
Point09,xy, 219, 7786,in, deg, , ,N, , ,E, grid, 34, 344000, 5816000,N
Point10,xy, , ,in, deg, , ,N, , ,W, grid, , , ,N
Point11,xy, , ,in, deg, , ,N, , ,W, grid, , , ,N
Point12,xy, , ,in, deg, , ,N, , ,W, grid, , , ,N
Point13,xy, , ,in, deg, , ,N, , ,W, grid, , , ,N
Point14,xy, , ,in, deg, , ,N, , ,W, grid, , , ,N
Point15,xy, , ,in, deg, , ,N, , ,W, grid, , , ,N
Point16,xy, , ,in, deg, , ,N, , ,W, grid, , , ,N
Point17,xy, , ,in, deg, , ,N, , ,W, grid, , , ,N
Point18,xy, , ,in, deg, , ,N, , ,W, grid, , , ,N
Point19,xy, , ,in, deg, , ,N, , ,W, grid, , , ,N
Point20,xy, , ,in, deg, , ,N, , ,W, grid, , , ,N
Point21,xy, , ,in, deg, , ,N, , ,W, grid, , , ,N
Point22,xy, , ,in, deg, , ,N, , ,W, grid, , , ,N
Point23,xy, , ,in, deg, , ,N, , ,W, grid, , , ,N
Point24,xy, , ,in, deg, , ,N, , ,W, grid, , , ,N
Point25,xy, , ,in, deg, , ,N, , ,W, grid, , , ,N
Point26,xy, , ,in, deg, , ,N, , ,W, grid, , , ,N
Point27,xy, , ,in, deg, , ,N, , ,W, grid, , , ,N
Point28,xy, , ,in, deg, , ,N, , ,W, grid, , , ,N
Point29,xy, , ,in, deg, , ,N, , ,W, grid, , , ,N
Point30,xy, , ,in, deg, , ,N, , ,W, grid, , , ,N
Projection Setup,,,,,,,,,,
Map Feature = MF ; Map Comment = MC These follow if they exist
Track File = TF These follow if they exist
Moving Map Parameters = MM? These follow if they exist
MM0,Yes
MMPNUM,4
MMPXY,1,0,0
MMPXY,2,10214,0
MMPXY,3,10214,8120
MMPXY,4,0,8120
MMPLL,1, 18.701062, 52.768172
MMPLL,2, 19.341418, 52.757307
MMPLL,3, 19.324993, 52.448501
MMPLL,4, 18.689129, 52.459334
MM1B,4.226508
Other Grid Setup
GRGRID,Yes,1 Km,Yes,16711680,255,500 m,0,16777215,8,1,Yes,No,No,x
MOP,Map Open Position,0,0
IWH,Map Image Width/Height,10214,8120
