OziExplorer Map Data File Version 2.2
Mapa.jpg
C:\Users\Augis\Documents\Ballooning\Varžybos\2008\Wloclawek\mapa.ozfx3
1 ,Map Code,
WGS 84,WGS 84, 0.0000, 0.0000,WGS 84
Reserved 1
Reserved 2
Magnetic Variation,,,E
Map Projection,(UTM) Universal Transverse Mercator,PolyCal,No,AutoCalOnly,No,BSBUseWPX,No
Point01,xy, 9759, 632,in, deg, , ,N, , ,E, grid, 34, 686000, 5844000,N
Point02,xy, 5041, 893,in, deg, , ,N, , ,E, grid, 34, 666000, 5844000,N
Point03,xy, 297, 684,in, deg, , ,N, , ,E, grid, 34, 646000, 5846000,N
Point04,xy, 481, 3986,in, deg, , ,N, , ,E, grid, 34, 646000, 5832000,N
Point05,xy, 5225, 4196,in, deg, , ,N, , ,E, grid, 34, 666000, 5830000,N
Point06,xy, 9496, 4432,in, deg, , ,N, , ,E, grid, 34, 684000, 5828000,N
Point07,xy, 9680, 7734,in, deg, , ,N, , ,E, grid, 34, 684000, 5814000,N
Point08,xy, 4936, 7524,in, deg, , ,N, , ,E, grid, 34, 664000, 5816000,N
Point09,xy, 219, 7786,in, deg, , ,N, , ,E, grid, 34, 644000, 5816000,N
Point10,xy, , ,in, deg, , ,, , ,, grid, , , ,
Point11,xy, , ,in, deg, , ,, , ,, grid, , , ,
Point12,xy, , ,in, deg, , ,, , ,, grid, , , ,
Point13,xy, , ,in, deg, , ,, , ,, grid, , , ,
Point14,xy, , ,in, deg, , ,, , ,, grid, , , ,
Point15,xy, , ,in, deg, , ,, , ,, grid, , , ,
Point16,xy, , ,in, deg, , ,, , ,, grid, , , ,
Point17,xy, , ,in, deg, , ,, , ,, grid, , , ,
Point18,xy, , ,in, deg, , ,, , ,, grid, , , ,
Point19,xy, , ,in, deg, , ,, , ,, grid, , , ,
Point20,xy, , ,in, deg, , ,, , ,, grid, , , ,
Point21,xy, , ,in, deg, , ,, , ,, grid, , , ,
Point22,xy, , ,in, deg, , ,, , ,, grid, , , ,
Point23,xy, , ,in, deg, , ,, , ,, grid, , , ,
Point24,xy, , ,in, deg, , ,, , ,, grid, , , ,
Point25,xy, , ,in, deg, , ,, , ,, grid, , , ,
Point26,xy, , ,in, deg, , ,, , ,, grid, , , ,
Point27,xy, , ,in, deg, , ,, , ,, grid, , , ,
Point28,xy, , ,in, deg, , ,, , ,, grid, , , ,
Point29,xy, , ,in, deg, , ,, , ,, grid, , , ,
Point30,xy, , ,in, deg, , ,, , ,, grid, , , ,
Projection Setup,,,,,,,,,,
Map Feature = MF ; Map Comment = MC These follow if they exist
Track File = TF These follow if they exist
Moving Map Parameters = MM? These follow if they exist
MM0,Yes
MMPNUM,4
MMPXY,1,0,0
MMPXY,2,10214,0
MMPXY,3,10214,8120
MMPXY,4,0,8120
MMPLL,1, 23.147973, 52.771004
MMPLL,2, 23.785791, 52.736178
MMPLL,3, 23.738292, 52.428653
MMPLL,4, 23.104878, 52.463183
MM1B,4.226515
MOP,Map Open Position,0,0
IWH,Map Image Width/Height,10214,8120
